BEGIN:VCALENDAR
VERSION:2.0
PRODID:-//hacksw/handcal//NONSGML v1.0//EN
CALSCALE:GREGORIAN
BEGIN:VEVENT
SUMMARY:Charla para familias en euskara y castellano (EBETE Taldea)
LOCATION:Kultura Aretoan
DTSTART:20240516T153000Z
DESCRIPTION:
URL;VALUE=URI:http://www.lezo.eus/eu/node/104034
DTSTAMP:20260424T084843Z
UID:69eb124b12875
END:VEVENT
END:VCALENDAR