BEGIN:VCALENDAR
VERSION:2.0
PRODID:-//hacksw/handcal//NONSGML v1.0//EN
CALSCALE:GREGORIAN
BEGIN:VEVENT
SUMMARY:Ruper Ordorika
LOCATION:Gezala Auditoriuma
DTSTART:20191110T190000Z
DESCRIPTION:
URL;VALUE=URI:http://www.lezo.eus/es/agenda/ruper-ordorika
DTSTAMP:20260423T060356Z
UID:69e99a2c94d3d
END:VEVENT
END:VCALENDAR