BEGIN:VCALENDAR
VERSION:2.0
PRODID:-//hacksw/handcal//NONSGML v1.0//EN
CALSCALE:GREGORIAN
BEGIN:VEVENT
SUMMARY:Nueve vidas zine-foruma 
LOCATION:Gezala Auditoriuma
DTSTART:20211106T173000Z
DESCRIPTION:
URL;VALUE=URI:http://www.lezo.eus/eu/agenda/nueve-vidas-zine-foruma
DTSTAMP:20260424T112327Z
UID:69eb368f75d9c
END:VEVENT
END:VCALENDAR