BEGIN:VCALENDAR
VERSION:2.0
PRODID:-//hacksw/handcal//NONSGML v1.0//EN
CALSCALE:GREGORIAN
BEGIN:VEVENT
SUMMARY:Kirola kalean
LOCATION:Lezoko kaleetan
DTSTART:20250517T063000Z
DESCRIPTION:
URL;VALUE=URI:http://www.lezo.eus/eu/agenda/partidak-bekoerrota-larunbata-46
DTSTAMP:20260421T085338Z
UID:69e71ef2eb668
END:VEVENT
END:VCALENDAR