BEGIN:VCALENDAR
VERSION:2.0
PRODID:-//hacksw/handcal//NONSGML v1.0//EN
CALSCALE:GREGORIAN
BEGIN:VEVENT
SUMMARY:Banda kontzertua
LOCATION:Gurutze Santuaren plaza
DTSTART:20240317T113000Z
DESCRIPTION:
URL;VALUE=URI:http://www.lezo.eus/index.php/eu/node/103936
DTSTAMP:20260423T023725Z
UID:69e969c56f890
END:VEVENT
END:VCALENDAR