BEGIN:VCALENDAR
VERSION:2.0
PRODID:-//hacksw/handcal//NONSGML v1.0//EN
CALSCALE:GREGORIAN
BEGIN:VEVENT
SUMMARY:Streaming aroa. Aurkezpena.
LOCATION:Kultur Aretoa
DTSTART:20260430T170000Z
DESCRIPTION:
URL;VALUE=URI:http://www.lezo.eus/index.php/eu/node/105139
DTSTAMP:20260423T201434Z
UID:69ea618ab043e
END:VEVENT
END:VCALENDAR