BEGIN:VCALENDAR
VERSION:2.0
PRODID:-//hacksw/handcal//NONSGML v1.0//EN
CALSCALE:GREGORIAN
BEGIN:VEVENT
SUMMARY:Pronoia
LOCATION:Gezala Auditoriuma
DTSTART:20210304T183000Z
DESCRIPTION:
URL;VALUE=URI:https://www.lezo.eus/eu/agenda/pronoia
DTSTAMP:20260420T133244Z
UID:69e60edc19e31
END:VEVENT
END:VCALENDAR