BEGIN:VCALENDAR
VERSION:2.0
PRODID:-//hacksw/handcal//NONSGML v1.0//EN
CALSCALE:GREGORIAN
BEGIN:VEVENT
SUMMARY:Partidak Allerru - igandea
LOCATION:Plazeta futbol zelaia
DTSTART:20260426T070000Z
DESCRIPTION:
URL;VALUE=URI:https://www.lezo.eus/eu/node/103818
DTSTAMP:20260422T025126Z
UID:69e81b8ed14ca
END:VEVENT
END:VCALENDAR