BEGIN:VCALENDAR
VERSION:2.0
PRODID:-//hacksw/handcal//NONSGML v1.0//EN
CALSCALE:GREGORIAN
BEGIN:VEVENT
SUMMARY:LEZOKO III. IRAKURKETA DRAMATIZATUEN PARTIDA
LOCATION:Lezo Herri Eskolako patioa
DTSTART:20251004T173000Z
DESCRIPTION:
URL;VALUE=URI:https://www.lezo.eus/eu/node/104797
DTSTAMP:20260422T012949Z
UID:69e8086d4828c
END:VEVENT
END:VCALENDAR