BEGIN:VCALENDAR
VERSION:2.0
PRODID:-//hacksw/handcal//NONSGML v1.0//EN
CALSCALE:GREGORIAN
BEGIN:VEVENT
SUMMARY:Antzerki ametsetan (Pasaia)
LOCATION:Gurutze Santuaren plaza
DTSTART:20251018T110000Z
DESCRIPTION:
URL;VALUE=URI:https://www.lezo.eus/eu/node/104829
DTSTAMP:20260421T204647Z
UID:69e7c617d85f6
END:VEVENT
END:VCALENDAR