BEGIN:VCALENDAR
VERSION:2.0
PRODID:-//hacksw/handcal//NONSGML v1.0//EN
CALSCALE:GREGORIAN
BEGIN:VEVENT
SUMMARY:Literatur solasaldia: ORDESA (Manuel Vilas)
LOCATION:Liburutegia
DTSTART:20200331T163000Z
DESCRIPTION:
URL;VALUE=URI:https://www.lezo.eus/eu/agenda/literatur-solasaldia-ordesa-manuel-vilas
DTSTAMP:20260423T234910Z
UID:69ea93d68ed86
END:VEVENT
END:VCALENDAR