BEGIN:VCALENDAR
VERSION:2.0
PRODID:-//hacksw/handcal//NONSGML v1.0//EN
CALSCALE:GREGORIAN
BEGIN:VEVENT
SUMMARY:Ez da kasualitatea
LOCATION:Gezala Auditoriuma
DTSTART:20211120T183000Z
DESCRIPTION:
URL;VALUE=URI:https://www.lezo.eus/eu/agenda/ez-da-kasualitatea
DTSTAMP:20260420T063428Z
UID:69e5acd47cfb1
END:VEVENT
END:VCALENDAR