BEGIN:VCALENDAR
VERSION:2.0
PRODID:-//hacksw/handcal//NONSGML v1.0//EN
CALSCALE:GREGORIAN
BEGIN:VEVENT
SUMMARY:Luze edo motz
LOCATION:Gezala Auditoriuma
DTSTART:20220305T180000Z
DESCRIPTION:
URL;VALUE=URI:https://www.lezo.eus/eu/agenda/luze-edo-motz
DTSTAMP:20260419T221408Z
UID:69e53790104e5
END:VEVENT
END:VCALENDAR