BEGIN:VCALENDAR
VERSION:2.0
PRODID:-//hacksw/handcal//NONSGML v1.0//EN
CALSCALE:GREGORIAN
BEGIN:VEVENT
SUMMARY:Iñaki Labaka
LOCATION:Gezala Auditoriuma
DTSTART:20230204T183000Z
DESCRIPTION:
URL;VALUE=URI:https://www.lezo.eus/eu/agenda/inaki-labaka
DTSTAMP:20260423T231736Z
UID:69ea8c7029e20
END:VEVENT
END:VCALENDAR