BEGIN:VCALENDAR
VERSION:2.0
PRODID:-//hacksw/handcal//NONSGML v1.0//EN
CALSCALE:GREGORIAN
BEGIN:VEVENT
SUMMARY:Irantzu Varela: "Manólogo"
LOCATION:Gezala Auditoriuma
DTSTART:20241122T190000Z
DESCRIPTION:
URL;VALUE=URI:https://www.lezo.eus/eu/node/104341
DTSTAMP:20260419T233122Z
UID:69e549aa1647f
END:VEVENT
END:VCALENDAR