BEGIN:VCALENDAR
VERSION:2.0
PRODID:-//hacksw/handcal//NONSGML v1.0//EN
CALSCALE:GREGORIAN
BEGIN:VEVENT
SUMMARY:Marmarra (ATX teatroa)
LOCATION:Lopene plaza*
DTSTART:20250829T180000Z
DESCRIPTION:
URL;VALUE=URI:https://www.lezo.eus/es/node/104740
DTSTAMP:20260422T115600Z
UID:69e89b30a078b
END:VEVENT
END:VCALENDAR