BEGIN:VCALENDAR
VERSION:2.0
PRODID:-//hacksw/handcal//NONSGML v1.0//EN
CALSCALE:GREGORIAN
BEGIN:VEVENT
SUMMARY:III. CONCURSO DE TEXTOS BREVES DE TEATRO
LOCATION:Lezo Herri Eskolako patioa
DTSTART:20251004T173000Z
DESCRIPTION:
URL;VALUE=URI:https://www.lezo.eus/es/node/104798
DTSTAMP:20260422T115229Z
UID:69e89a5ddd71f
END:VEVENT
END:VCALENDAR