BEGIN:VCALENDAR
VERSION:2.0
PRODID:-//hacksw/handcal//NONSGML v1.0//EN
CALSCALE:GREGORIAN
BEGIN:VEVENT
SUMMARY:El perfume del tiempo (Arden)
LOCATION:Gezala Auditoriuma
DTSTART:20251123T183000Z
DESCRIPTION:
URL;VALUE=URI:https://www.lezo.eus/eu/node/104819
DTSTAMP:20260422T013656Z
UID:69e80a18abbb0
END:VEVENT
END:VCALENDAR