BEGIN:VCALENDAR
VERSION:2.0
PRODID:-//hacksw/handcal//NONSGML v1.0//EN
CALSCALE:GREGORIAN
BEGIN:VEVENT
SUMMARY:Antzerki ametsetan (Berrobi)
LOCATION:Gezala Auditoriuma
DTSTART:20251025T173000Z
DESCRIPTION:
URL;VALUE=URI:https://www.lezo.eus/eu/node/104833
DTSTAMP:20260421T221848Z
UID:69e7dba8f3335
END:VEVENT
END:VCALENDAR