BEGIN:VCALENDAR
VERSION:2.0
PRODID:-//hacksw/handcal//NONSGML v1.0//EN
CALSCALE:GREGORIAN
BEGIN:VEVENT
SUMMARY:Antzerki ametsetan (Oiartzun)
LOCATION:Gezala Auditoriuma
DTSTART:20251026T183000Z
DESCRIPTION:
URL;VALUE=URI:https://www.lezo.eus/es/node/104838
DTSTAMP:20260422T013023Z
UID:69e8088f0a7c2
END:VEVENT
END:VCALENDAR