BEGIN:VCALENDAR
VERSION:2.0
PRODID:-//hacksw/handcal//NONSGML v1.0//EN
CALSCALE:GREGORIAN
BEGIN:VEVENT
SUMMARY:"1968 Gipuzkoa en estado de excepción" liburuaren aurkezpena
LOCATION:Gezala Auditoriuma
DTSTART:20190124T190000Z
DESCRIPTION:
URL;VALUE=URI:https://www.lezo.eus/index.php/eu/kultura/1968-gipuzkoa-en-estado-de-excepcion-liburuaren-aurkezpena-0
DTSTAMP:20260424T164026Z
UID:69eb80dac5cc0
END:VEVENT
END:VCALENDAR