BEGIN:VCALENDAR
VERSION:2.0
PRODID:-//hacksw/handcal//NONSGML v1.0//EN
CALSCALE:GREGORIAN
BEGIN:VEVENT
SUMMARY:Korrika 21
LOCATION:Lezon barrena
DTSTART:20190412T203000Z
DESCRIPTION:
URL;VALUE=URI:https://www.lezo.eus/index.php/eu/agenda/korrika-21
DTSTAMP:20260424T141026Z
UID:69eb5db221c2d
END:VEVENT
END:VCALENDAR