BEGIN:VCALENDAR
VERSION:2.0
PRODID:-//hacksw/handcal//NONSGML v1.0//EN
CALSCALE:GREGORIAN
BEGIN:VEVENT
SUMMARY:Maider Galarza: "Ipuinak mara-mara"
LOCATION:Lezoko Liburutegia
DTSTART:20191106T171500Z
DESCRIPTION:
URL;VALUE=URI:https://www.lezo.eus/index.php/eu/agenda/maider-galarza-ipuinak-mara-mara
DTSTAMP:20260420T000912Z
UID:69e5528899ed0
END:VEVENT
END:VCALENDAR