BEGIN:VCALENDAR
VERSION:2.0
PRODID:-//hacksw/handcal//NONSGML v1.0//EN
CALSCALE:GREGORIAN
BEGIN:VEVENT
SUMMARY:Loti ederrak
LOCATION:Gezala Auditoriuma
DTSTART:20231201T161500Z
DESCRIPTION:
URL;VALUE=URI:https://www.lezo.eus/index.php/eu/node/103634
DTSTAMP:20260423T130907Z
UID:69e9fdd38e23f
END:VEVENT
END:VCALENDAR