BEGIN:VCALENDAR
VERSION:2.0
PRODID:-//hacksw/handcal//NONSGML v1.0//EN
CALSCALE:GREGORIAN
BEGIN:VEVENT
SUMMARY:"Ogro operazioa" liburuaren aurkezpena
LOCATION:Gezala Auditoriuma
DTSTART:20231228T183000Z
DESCRIPTION:
URL;VALUE=URI:https://www.lezo.eus/index.php/eu/node/103761
DTSTAMP:20260424T174428Z
UID:69eb8fdcca0d9
END:VEVENT
END:VCALENDAR