BEGIN:VCALENDAR
VERSION:2.0
PRODID:-//hacksw/handcal//NONSGML v1.0//EN
CALSCALE:GREGORIAN
BEGIN:VEVENT
SUMMARY:Kontzertua
LOCATION:Gurutze Santuaren plaza
DTSTART:20240512T103000Z
DESCRIPTION:
URL;VALUE=URI:https://www.lezo.eus/index.php/eu/node/104055
DTSTAMP:20260424T072206Z
UID:69eafdfe1998e
END:VEVENT
END:VCALENDAR