BEGIN:VCALENDAR
VERSION:2.0
PRODID:-//hacksw/handcal//NONSGML v1.0//EN
CALSCALE:GREGORIAN
BEGIN:VEVENT
SUMMARY:"Richard Zikoina"
LOCATION:Gezala Auditoriuma
DTSTART:20190202T163000Z
DESCRIPTION:
URL;VALUE=URI:https://www.lezo.eus/index.php/eu/kultura/richard-zikoina
DTSTAMP:20260421T233236Z
UID:69e7ecf491f06
END:VEVENT
END:VCALENDAR