BEGIN:VCALENDAR
VERSION:2.0
PRODID:-//hacksw/handcal//NONSGML v1.0//EN
CALSCALE:GREGORIAN
BEGIN:VEVENT
SUMMARY:"Gazte harrigarria\, T.S. Spivet"
LOCATION:Gezala Auditoriuma
DTSTART:20190119T183000Z
DESCRIPTION:
URL;VALUE=URI:https://www.lezo.eus/index.php/eu/agenda/gazte-harrigarria-ts-spivet
DTSTAMP:20260419T145311Z
UID:69e4d037764db
END:VEVENT
END:VCALENDAR