BEGIN:VCALENDAR
VERSION:2.0
PRODID:-//hacksw/handcal//NONSGML v1.0//EN
CALSCALE:GREGORIAN
BEGIN:VEVENT
SUMMARY:Bertso jaialdia: Irati Alcantarilla + Andoni Egaña + Jokin Irastorza + Sebastian Lizaso
LOCATION:Herriko plaza
DTSTART:20190916T180000Z
DESCRIPTION:
URL;VALUE=URI:https://www.lezo.eus/index.php/es/agenda/bertso-jaialdia-irati-alcantarilla-andoni-egana-jokin-irastorza-sebastian-lizaso
DTSTAMP:20260424T034557Z
UID:69eacb55c45f5
END:VEVENT
END:VCALENDAR