BEGIN:VCALENDAR
VERSION:2.0
PRODID:-//hacksw/handcal//NONSGML v1.0//EN
CALSCALE:GREGORIAN
BEGIN:VEVENT
SUMMARY:Ilargi - "Beldurrarekin dantzan" 
LOCATION:Kultura Aretoa
DTSTART:20221201T100000Z
DESCRIPTION:
URL;VALUE=URI:https://www.lezo.eus/index.php/eu/agenda/ilargi-beldurrarekin-dantzan
DTSTAMP:20260424T143659Z
UID:69eb63ebeaa75
END:VEVENT
END:VCALENDAR