BEGIN:VCALENDAR
VERSION:2.0
PRODID:-//hacksw/handcal//NONSGML v1.0//EN
CALSCALE:GREGORIAN
BEGIN:VEVENT
SUMMARY:Komandantzia
LOCATION:Kultur Aretoa
DTSTART:20230202T180000Z
DESCRIPTION:
URL;VALUE=URI:https://www.lezo.eus/index.php/eu/agenda/komandantzia
DTSTAMP:20260424T184953Z
UID:69eb9f3112d1e
END:VEVENT
END:VCALENDAR