BEGIN:VCALENDAR
VERSION:2.0
PRODID:-//hacksw/handcal//NONSGML v1.0//EN
CALSCALE:GREGORIAN
BEGIN:VEVENT
SUMMARY:Partidak Bekoerrota - ostirala
LOCATION:Bekoerrota kiroldegia
DTSTART:20260424T192000Z
DESCRIPTION:
URL;VALUE=URI:https://www.lezo.eus/index.php/eu/node/103881
DTSTAMP:20260422T010257Z
UID:69e802219ede4
END:VEVENT
END:VCALENDAR