BEGIN:VCALENDAR
VERSION:2.0
PRODID:-//hacksw/handcal//NONSGML v1.0//EN
CALSCALE:GREGORIAN
BEGIN:VEVENT
SUMMARY:Ipuin musikala
LOCATION:Gezala Auditoriuma
DTSTART:20240322T093000Z
DESCRIPTION:
URL;VALUE=URI:https://www.lezo.eus/index.php/eu/node/103951
DTSTAMP:20260424T015637Z
UID:69eab1b59a001
END:VEVENT
END:VCALENDAR