BEGIN:VCALENDAR
VERSION:2.0
PRODID:-//hacksw/handcal//NONSGML v1.0//EN
CALSCALE:GREGORIAN
BEGIN:VEVENT
SUMMARY:Orkestra kontzertua
LOCATION:Gezala Auditoriuma
DTSTART:20240427T170000Z
DESCRIPTION:
URL;VALUE=URI:https://www.lezo.eus/index.php/eu/node/103953
DTSTAMP:20260424T053350Z
UID:69eae49e0284f
END:VEVENT
END:VCALENDAR