BEGIN:VCALENDAR
VERSION:2.0
PRODID:-//hacksw/handcal//NONSGML v1.0//EN
CALSCALE:GREGORIAN
BEGIN:VEVENT
SUMMARY:HERRI HARRO IRRI 
LOCATION:Gurutze Santuaren plaza
DTSTART:20240615T200000Z
DESCRIPTION:
URL;VALUE=URI:https://www.lezo.eus/index.php/eu/node/104110
DTSTAMP:20260424T053032Z
UID:69eae3d8b07d4
END:VEVENT
END:VCALENDAR